BEGIN:VCALENDAR
VERSION:2.0
PRODID:-//Texas Humane Heroes - ECPv6.15.20//NONSGML v1.0//EN
CALSCALE:GREGORIAN
METHOD:PUBLISH
X-WR-CALNAME:Texas Humane Heroes
X-ORIGINAL-URL:https://humaneheroes.org
X-WR-CALDESC:Events for Texas Humane Heroes
REFRESH-INTERVAL;VALUE=DURATION:PT1H
X-Robots-Tag:noindex
X-PUBLISHED-TTL:PT1H
BEGIN:VTIMEZONE
TZID:America/Chicago
BEGIN:DAYLIGHT
TZOFFSETFROM:-0600
TZOFFSETTO:-0500
TZNAME:CDT
DTSTART:20200308T080000
END:DAYLIGHT
BEGIN:STANDARD
TZOFFSETFROM:-0500
TZOFFSETTO:-0600
TZNAME:CST
DTSTART:20201101T070000
END:STANDARD
BEGIN:DAYLIGHT
TZOFFSETFROM:-0600
TZOFFSETTO:-0500
TZNAME:CDT
DTSTART:20210314T080000
END:DAYLIGHT
BEGIN:STANDARD
TZOFFSETFROM:-0500
TZOFFSETTO:-0600
TZNAME:CST
DTSTART:20211107T070000
END:STANDARD
BEGIN:DAYLIGHT
TZOFFSETFROM:-0600
TZOFFSETTO:-0500
TZNAME:CDT
DTSTART:20220313T080000
END:DAYLIGHT
BEGIN:STANDARD
TZOFFSETFROM:-0500
TZOFFSETTO:-0600
TZNAME:CST
DTSTART:20221106T070000
END:STANDARD
END:VTIMEZONE
BEGIN:VEVENT
DTSTART;TZID=America/Chicago:20211031T130000
DTEND;TZID=America/Chicago:20211031T160000
DTSTAMP:20260419T104852
CREATED:20211001T184457Z
LAST-MODIFIED:20211001T185039Z
UID:12941-1635685200-1635696000@humaneheroes.org
SUMMARY:PAW Adoption Event: Boo Bash in Georgetown
DESCRIPTION:Prepare for a truly thrill-filled evening at this year’s Boo Bash Trunk & Treat 2021 Event! Come out to support Texas Humane Heroes on Main Street in downtown Georgetown on Sunday\, October 31 from 1-4 p.m. It will be a perfectly spooktacular afternoon for the young and young at heart. Get ready for some sick tunes that would have even a mummy wanting to groove\, sweet treats that everyone can enjoy\, and spooktacular costumes that will have you questioning whether real monsters came to participate in the magical afternoon festivities. You can participate in or watch the 2nd Annual Pet Costume Contest that will be hosted by DGA member Wag Heaven and the Williamson Museum. Come if you dare!
URL:https://humaneheroes.org/event/paw-adoption-event-boo-bash-in-georgetown/
LOCATION:116 W. 8th St\, Ste. 207    Georgetown\, TX 78626\, 116 W. 8th St\, Ste. 207\, Georgetown\, texas\, 78626\, United States
END:VEVENT
END:VCALENDAR