BEGIN:VCALENDAR
VERSION:2.0
PRODID:-//Texas Humane Heroes - ECPv6.15.20//NONSGML v1.0//EN
CALSCALE:GREGORIAN
METHOD:PUBLISH
X-ORIGINAL-URL:https://humaneheroes.org
X-WR-CALDESC:Events for Texas Humane Heroes
REFRESH-INTERVAL;VALUE=DURATION:PT1H
X-Robots-Tag:noindex
X-PUBLISHED-TTL:PT1H
BEGIN:VTIMEZONE
TZID:America/Chicago
BEGIN:DAYLIGHT
TZOFFSETFROM:-0600
TZOFFSETTO:-0500
TZNAME:CDT
DTSTART:20200308T080000
END:DAYLIGHT
BEGIN:STANDARD
TZOFFSETFROM:-0500
TZOFFSETTO:-0600
TZNAME:CST
DTSTART:20201101T070000
END:STANDARD
BEGIN:DAYLIGHT
TZOFFSETFROM:-0600
TZOFFSETTO:-0500
TZNAME:CDT
DTSTART:20210314T080000
END:DAYLIGHT
BEGIN:STANDARD
TZOFFSETFROM:-0500
TZOFFSETTO:-0600
TZNAME:CST
DTSTART:20211107T070000
END:STANDARD
BEGIN:DAYLIGHT
TZOFFSETFROM:-0600
TZOFFSETTO:-0500
TZNAME:CDT
DTSTART:20220313T080000
END:DAYLIGHT
BEGIN:STANDARD
TZOFFSETFROM:-0500
TZOFFSETTO:-0600
TZNAME:CST
DTSTART:20221106T070000
END:STANDARD
END:VTIMEZONE
BEGIN:VEVENT
DTSTART;TZID=America/Chicago:20211204T100000
DTEND;TZID=America/Chicago:20211204T180000
DTSTAMP:20260421T045445
CREATED:20211201T211920Z
LAST-MODIFIED:20211201T211921Z
UID:12993-1638612000-1638640800@humaneheroes.org
SUMMARY:Adoption Event: Old Town Christmas Festival
DESCRIPTION:Texas Humane Heroes joins Old Town Leander to spread Christmas joy throughout the community! This free event includes the Old Town Rudolph Run 5K\, parade\, activities for the kids\, local school performances and entertainment\, family Christmas movie & s’mores\, food court\, local vendors\, and more. TXHH will be there with adoptable pets!
URL:https://humaneheroes.org/event/adoption-event-old-town-christmas-festival/
LOCATION:Old Town Leander\, 100 N Brushy St\, Leander\, Texas\, 78641\, United States
END:VEVENT
END:VCALENDAR